Back to Multiple platform build/check report for BioC 3.15
ABCDEFGHIJKLMNO[P]QRSTUVWXYZ

This page was generated on 2022-05-23 12:05:36 -0400 (Mon, 23 May 2022).

HostnameOSArch (*)R versionInstalled pkgs
nebbiolo1Linux (Ubuntu 20.04.4 LTS)x86_644.2.0 (2022-04-22) -- "Vigorous Calisthenics" 4380
palomino3Windows Server 2022 Datacenterx644.2.0 (2022-04-22 ucrt) -- "Vigorous Calisthenics" 4155
merida1macOS 10.14.6 Mojavex86_644.2.0 (2022-04-22) -- "Vigorous Calisthenics" 4221
Click on any hostname to see more info about the system (e.g. compilers)      (*) as reported by 'uname -p', except on Windows and Mac OS X

CHECK results for PDATK on nebbiolo1


To the developers/maintainers of the PDATK package:
- Please allow up to 24 hours (and sometimes 48 hours) for your latest push to git@git.bioconductor.org:packages/PDATK.git to
reflect on this report. See How and When does the builder pull? When will my changes propagate? for more information.
- Make sure to use the following settings in order to reproduce any error or warning you see on this page.

raw results

Package 1426/2140HostnameOS / ArchINSTALLBUILDCHECKBUILD BIN
PDATK 1.4.0  (landing page)
Benjamin Haibe-Kains
Snapshot Date: 2022-05-22 13:55:15 -0400 (Sun, 22 May 2022)
git_url: https://git.bioconductor.org/packages/PDATK
git_branch: RELEASE_3_15
git_last_commit: e8151e0
git_last_commit_date: 2022-04-26 12:13:17 -0400 (Tue, 26 Apr 2022)
nebbiolo1Linux (Ubuntu 20.04.4 LTS) / x86_64  OK    OK    OK  UNNEEDED, same version is already published
palomino3Windows Server 2022 Datacenter / x64  OK    OK    OK    OK  UNNEEDED, same version is already published
merida1macOS 10.14.6 Mojave / x86_64  OK    OK    OK    OK  UNNEEDED, same version is already published

Summary

Package: PDATK
Version: 1.4.0
Command: /home/biocbuild/bbs-3.15-bioc/R/bin/R CMD check --install=check:PDATK.install-out.txt --library=/home/biocbuild/bbs-3.15-bioc/R/library --no-vignettes --timings PDATK_1.4.0.tar.gz
StartedAt: 2022-05-22 20:51:48 -0400 (Sun, 22 May 2022)
EndedAt: 2022-05-22 20:56:42 -0400 (Sun, 22 May 2022)
EllapsedTime: 293.9 seconds
RetCode: 0
Status:   OK  
CheckDir: PDATK.Rcheck
Warnings: 0

Command output

##############################################################################
##############################################################################
###
### Running command:
###
###   /home/biocbuild/bbs-3.15-bioc/R/bin/R CMD check --install=check:PDATK.install-out.txt --library=/home/biocbuild/bbs-3.15-bioc/R/library --no-vignettes --timings PDATK_1.4.0.tar.gz
###
##############################################################################
##############################################################################


* using log directory ‘/home/biocbuild/bbs-3.15-bioc/meat/PDATK.Rcheck’
* using R version 4.2.0 (2022-04-22)
* using platform: x86_64-pc-linux-gnu (64-bit)
* using session charset: UTF-8
* using option ‘--no-vignettes’
* checking for file ‘PDATK/DESCRIPTION’ ... OK
* checking extension type ... Package
* this is package ‘PDATK’ version ‘1.4.0’
* package encoding: UTF-8
* checking package namespace information ... OK
* checking package dependencies ...Warning: unable to access index for repository https://CRAN.R-project.org/src/contrib:
  cannot open URL 'https://CRAN.R-project.org/src/contrib/PACKAGES'
 OK
* checking if this is a source package ... OK
* checking if there is a namespace ... OK
* checking for hidden files and directories ... OK
* checking for portable file names ... OK
* checking for sufficient/correct file permissions ... OK
* checking whether package ‘PDATK’ can be installed ... OK
* checking installed package size ... OK
* checking package directory ... OK
* checking ‘build’ directory ... OK
* checking DESCRIPTION meta-information ... OK
* checking top-level files ... OK
* checking for left-over files ... OK
* checking index information ... OK
* checking package subdirectories ... OK
* checking R files for non-ASCII characters ... OK
* checking R files for syntax errors ... OK
* checking whether the package can be loaded ... OK
* checking whether the package can be loaded with stated dependencies ... OK
* checking whether the package can be unloaded cleanly ... OK
* checking whether the namespace can be loaded with stated dependencies ... OK
* checking whether the namespace can be unloaded cleanly ... OK
* checking dependencies in R code ... OK
* checking S3 generic/method consistency ... OK
* checking replacement functions ... OK
* checking foreign function calls ... OK
* checking R code for possible problems ... NOTE
.calculateMSMthresholds: no visible binding for global variable
  ‘funContext’
.plotNetwork: no visible global function definition for ‘legend’
NCSModel: no visible binding for global variable ‘metric’
NCSModel: no visible binding for global variable ‘comparison’
NCSModel: no visible binding for global variable ‘centroid_K’
NCSModel: no visible binding for global variable ‘assay_K’
NetworkCommunitySearchModel: no visible binding for global variable
  ‘metric’
NetworkCommunitySearchModel: no visible binding for global variable
  ‘comparison’
NetworkCommunitySearchModel: no visible binding for global variable
  ‘centroid_K’
NetworkCommunitySearchModel: no visible binding for global variable
  ‘assay_K’
predictClasses,ConsensusMetaclusteringModel-ANY: no visible global
  function definition for ‘.error’
predictClasses,NCSModel-ANY: no visible binding for global variable
  ‘centroid_cohort’
predictClasses,NCSModel-ANY: no visible binding for global variable
  ‘centroid_K’
predictClasses,NCSModel-ANY: no visible binding for global variable
  ‘assay_cohort’
predictClasses,NCSModel-ANY: no visible binding for global variable
  ‘assay_K’
predictClasses,NCSModel-ANY: no visible binding for global variable
  ‘tmp’
predictClasses,NCSModel-ANY: no visible binding for global variable
  ‘cluster_label’
rankFeatures,MultiAssayExperiment: no visible binding for global
  variable ‘feature’
rankFeatures,MultiAssayExperiment: no visible binding for global
  variable ‘missignAssays’
rankFeatures,MultiAssayExperiment: no visible binding for global
  variable ‘feature_score’
rankFeatures,MultiAssayExperiment: no visible binding for global
  variable ‘feature_rank’
trainModel,ConsensusMetaclusteringModel: no visible global function
  definition for ‘pdf’
trainModel,ConsensusMetaclusteringModel: no visible global function
  definition for ‘dev.off’
trainModel,NCSModel: no visible binding for global variable
  ‘ingroup_proportion’
trainModel,NCSModel: no visible binding for global variable
  ‘cor_threshold’
Undefined global functions or variables:
  .error assay_K assay_cohort centroid_K centroid_cohort cluster_label
  comparison cor_threshold dev.off feature feature_rank feature_score
  funContext ingroup_proportion legend metric missignAssays pdf tmp
Consider adding
  importFrom("grDevices", "dev.off", "pdf")
  importFrom("graphics", "legend")
to your NAMESPACE file.
* checking Rd files ... OK
* checking Rd metadata ... OK
* checking Rd cross-references ... OK
* checking for missing documentation entries ... OK
* checking for code/documentation mismatches ... OK
* checking Rd \usage sections ... OK
* checking Rd contents ... OK
* checking for unstated dependencies in examples ... OK
* checking contents of ‘data’ directory ... OK
* checking data for non-ASCII characters ... OK
* checking data for ASCII and uncompressed saves ... OK
* checking files in ‘vignettes’ ... OK
* checking examples ... OK
* checking for unstated dependencies in ‘tests’ ... OK
* checking tests ...
  Running ‘testthat.R’
 OK
* checking for unstated dependencies in vignettes ... OK
* checking package vignettes in ‘inst/doc’ ... OK
* checking running R code from vignettes ... SKIPPED
* checking re-building of vignette outputs ... SKIPPED
* checking PDF version of manual ... OK
* DONE

Status: 1 NOTE
See
  ‘/home/biocbuild/bbs-3.15-bioc/meat/PDATK.Rcheck/00check.log’
for details.



Installation output

PDATK.Rcheck/00install.out

##############################################################################
##############################################################################
###
### Running command:
###
###   /home/biocbuild/bbs-3.15-bioc/R/bin/R CMD INSTALL PDATK
###
##############################################################################
##############################################################################


* installing to library ‘/home/biocbuild/bbs-3.15-bioc/R/library’
* installing *source* package ‘PDATK’ ...
** using staged installation
** R
** data
** byte-compile and prepare package for lazy loading
** help
*** installing help indices
** building package indices
** installing vignettes
** testing if installed package can be loaded from temporary location
** testing if installed package can be loaded from final location
** testing if installed package keeps a record of temporary installation path
* DONE (PDATK)

Tests output

PDATK.Rcheck/tests/testthat.Rout


R version 4.2.0 (2022-04-22) -- "Vigorous Calisthenics"
Copyright (C) 2022 The R Foundation for Statistical Computing
Platform: x86_64-pc-linux-gnu (64-bit)

R is free software and comes with ABSOLUTELY NO WARRANTY.
You are welcome to redistribute it under certain conditions.
Type 'license()' or 'licence()' for distribution details.

R is a collaborative project with many contributors.
Type 'contributors()' for more information and
'citation()' on how to cite R or R packages in publications.

Type 'demo()' for some demos, 'help()' for on-line help, or
'help.start()' for an HTML browser interface to help.
Type 'q()' to quit R.

> library(testthat)
> library(PDATK)
Loading required package: SummarizedExperiment
Loading required package: MatrixGenerics
Loading required package: matrixStats

Attaching package: 'MatrixGenerics'

The following objects are masked from 'package:matrixStats':

    colAlls, colAnyNAs, colAnys, colAvgsPerRowSet, colCollapse,
    colCounts, colCummaxs, colCummins, colCumprods, colCumsums,
    colDiffs, colIQRDiffs, colIQRs, colLogSumExps, colMadDiffs,
    colMads, colMaxs, colMeans2, colMedians, colMins, colOrderStats,
    colProds, colQuantiles, colRanges, colRanks, colSdDiffs, colSds,
    colSums2, colTabulates, colVarDiffs, colVars, colWeightedMads,
    colWeightedMeans, colWeightedMedians, colWeightedSds,
    colWeightedVars, rowAlls, rowAnyNAs, rowAnys, rowAvgsPerColSet,
    rowCollapse, rowCounts, rowCummaxs, rowCummins, rowCumprods,
    rowCumsums, rowDiffs, rowIQRDiffs, rowIQRs, rowLogSumExps,
    rowMadDiffs, rowMads, rowMaxs, rowMeans2, rowMedians, rowMins,
    rowOrderStats, rowProds, rowQuantiles, rowRanges, rowRanks,
    rowSdDiffs, rowSds, rowSums2, rowTabulates, rowVarDiffs, rowVars,
    rowWeightedMads, rowWeightedMeans, rowWeightedMedians,
    rowWeightedSds, rowWeightedVars

Loading required package: GenomicRanges
Loading required package: stats4
Loading required package: BiocGenerics

Attaching package: 'BiocGenerics'

The following objects are masked from 'package:stats':

    IQR, mad, sd, var, xtabs

The following objects are masked from 'package:base':

    Filter, Find, Map, Position, Reduce, anyDuplicated, append,
    as.data.frame, basename, cbind, colnames, dirname, do.call,
    duplicated, eval, evalq, get, grep, grepl, intersect, is.unsorted,
    lapply, mapply, match, mget, order, paste, pmax, pmax.int, pmin,
    pmin.int, rank, rbind, rownames, sapply, setdiff, sort, table,
    tapply, union, unique, unsplit, which.max, which.min

Loading required package: S4Vectors

Attaching package: 'S4Vectors'

The following objects are masked from 'package:base':

    I, expand.grid, unname

Loading required package: IRanges
Loading required package: GenomeInfoDb
Loading required package: Biobase
Welcome to Bioconductor

    Vignettes contain introductory material; view with
    'browseVignettes()'. To cite Bioconductor, see
    'citation("Biobase")', and for packages 'citation("pkgname")'.


Attaching package: 'Biobase'

The following object is masked from 'package:MatrixGenerics':

    rowMedians

The following objects are masked from 'package:matrixStats':

    anyMissing, rowMedians

> 
> test_check("PDATK")
[ FAIL 0 | WARN 0 | SKIP 0 | PASS 77 ]
> 
> proc.time()
   user  system elapsed 
 30.254   6.060  31.722 

Example timings

PDATK.Rcheck/PDATK-Ex.timings

nameusersystemelapsed
CSPC_MAE0.0050.0000.005
ClinicalModel-class0.0870.0040.091
ClinicalModel0.0920.0000.093
CohortList0.0260.0040.030
ConsensusMetaclusteringModel0.0140.0000.013
CoxModel1.1970.0001.197
GeneFuModel0.0880.0000.088
ModelComparison2.8360.0752.926
PCOSP0.0900.0030.095
RandomGeneAssignmentModel0.0610.0000.062
RandomLabelShufflingModel0.0540.0040.058
SurvivalExperiment0.0740.0000.073
SurvivalModel-class0.0290.0040.033
SurvivalModel0.0300.0030.034
assignColDataColumn0.0320.0000.032
assignSubtypes-CohortList-list-method0.3660.0000.366
assignSubtypes-SurvivalExperiment-data.frame-method0.0330.0000.034
assignSubtypes0.0330.0000.033
barPlotModelComparison-ClinicalModel-PCOSP_or_RLS_or_RGA-method0.7430.0030.746
barPlotModelComparison0.6920.0010.691
birnbaum0.0030.0000.004
chen0.0030.0000.003
cohortSubtypeDFs0.0030.0000.004
compareModels-ModelComparison-SurvivalModel-method0.6510.0030.655
compareModels-SurvivalModel-SurvivalModel-method0.6440.0050.647
compareModels0.6540.0110.666
dropNotCensored-CohortList-method0.5310.0080.539
dropNotCensored-SurvivalExperiment-method0.0410.0000.041
dropNotCensored0.0380.0030.042
existingClassifierData0.0030.0000.002
findCommonGenes-CohortList-method0.0240.0000.024
findCommonGenes0.0230.0000.023
findCommonSamples-CohortList-method0.0320.0000.032
findCommonSamples0.030.000.03
forestPlot-ModelComparison-method0.6860.0030.689
forestPlot-PCOSP_or_ClinicalModel-method0.0460.0000.047
forestPlot0.1110.0040.115
getModelSeed-SurvivalModel-method0.0090.0000.009
getModelSeed0.0070.0000.007
getTopFeatures-PCOSP-method0.0050.0050.009
getTopFeatures-SummarizedExperiment-method0.1450.0030.149
getTopFeatures0.0040.0040.008
haiderSigScores0.0000.0020.002
hasColDataColumns0.0110.0000.012
merge-SurvivalExperiment-SurvivalExperiment-method0.1080.0030.112
modelParams-set0.0110.0000.011
modelParams0.0140.0010.013
models-SurvivalModel-method0.0080.0000.008
models-set-SurvivalModel-SimpleList-method0.0030.0050.008
models-set0.0050.0050.011
models0.0080.0010.008
normalsMAE0.0020.0000.002
plotROC-PCOSP-method0.1230.0000.123
predictClasses-CohortList-ClinicalModel-method0.2680.0030.272
predictClasses-CohortList-PCOSP_or_RLS_or_RGA-method0.3100.0040.314
predictClasses-SurvivalExperiment-ClinicalModel-method0.1200.0010.120
predictClasses-SurvivalExperiment-PCOSP_or_RLS_or_RGA-method0.1140.0000.114
predictClasses0.1150.0030.119
rankFeatures-SummarizedExperiment-method0.1460.0000.146
rankFeatures0.0980.0040.102
removeColDataFactorColumns0.0190.0000.019
removeFactorColumns0.0030.0000.003
renameColDataColumns0.0190.0000.019
renameColumns0.0020.0000.002
sampleClinicalModel0.0020.0030.006
sampleCohortList0.0220.0000.022
sampleICGCmicro0.0070.0000.007
samplePCOSPmodel0.0070.0000.007
samplePCOSPpredList0.0280.0000.028
samplePCSIsurvExp0.0050.0000.005
sampleRGAmodel0.0070.0000.007
sampleRLSmodel0.0040.0030.007
sampleTrainedPCOSPmodel0.0070.0000.007
sampleValPCOSPmodel0.030.000.03
show-S4Model-method0.0520.0000.052
subset-CohortList-method0.1680.0030.172
trainData-set0.0120.0000.012
trainData0.0080.0000.008
trainModel-ClinicalModel-method0.0410.0080.049
trainModel-PCOSP-method1.0240.0391.064
trainModel-RGAModel-method0.9690.0000.969
trainModel-RLSModel-method0.980.000.98
trainModel0.9910.0121.003
validateModel-ClinicalModel-CohortList-method0.2340.0070.241
validateModel-ClinicalModel-SurvivalExperiment-method0.6190.0240.643
validateModel-GeneFuModel-CohortList-method0.9010.0000.901
validateModel-PCOSP_or_RLS_or_RGA-CohortList-method0.8450.0080.853
validateModel-PCOSP_or_RLS_or_RGA-SurvivalExperiment-method0.9070.0040.911
validateModel0.0850.0000.085
validationData-SurvivalModel-method0.0090.0000.008
validationData-set-SurvivalModel-CohortList-method0.0070.0000.007
validationData-set0.0090.0000.008
validationData0.0080.0000.008
validationStats-SurvivalModel-method0.0070.0000.007
validationStats-set-SurvivalModel-data.frame-method0.0080.0000.008
validationStats-set0.0080.0000.008
validationStats0.0040.0040.008