Name | Last modified | Size | Description | |
---|---|---|---|---|
Parent Directory | - | |||
install-out.txt | 19-Mar-2022 00:08 | 1.4K | ||
install-summary.dcf | 19-Mar-2022 00:08 | 282 | ||
buildsrc-out.txt | 19-Mar-2022 00:08 | 911 | ||
buildsrc-summary.dcf | 19-Mar-2022 00:08 | 480 | ||
checksrc-out.txt | 19-Mar-2022 00:08 | 3.6K | ||
checksrc-summary.dcf | 19-Mar-2022 00:08 | 475 | ||
buildbin-out.txt | 19-Mar-2022 00:08 | 1.5K | ||
buildbin-summary.dcf | 19-Mar-2022 00:08 | 555 | ||