Name | Last modified | Size | Description | |
---|---|---|---|---|
Parent Directory | - | |||
install-summary.dcf | 20-Oct-2022 02:23 | 283 | ||
install-out.txt | 20-Oct-2022 02:23 | 1.0K | ||
checksrc-summary.dcf | 20-Oct-2022 02:23 | 472 | ||
checksrc-out.txt | 20-Oct-2022 02:23 | 3.6K | ||
buildsrc-summary.dcf | 20-Oct-2022 02:23 | 447 | ||
buildsrc-out.txt | 20-Oct-2022 02:23 | 884 | ||
buildbin-summary.dcf | 20-Oct-2022 02:23 | 572 | ||
buildbin-out.txt | 20-Oct-2022 02:23 | 1.2K | ||