Name | Last modified | Size | Description | |
---|---|---|---|---|
Parent Directory | - | |||
install-summary.dcf | 20-Oct-2022 02:21 | 271 | ||
install-out.txt | 20-Oct-2022 02:21 | 2.4K | ||
checksrc-summary.dcf | 20-Oct-2022 02:21 | 453 | ||
checksrc-out.txt | 20-Oct-2022 02:21 | 3.8K | ||
buildsrc-summary.dcf | 20-Oct-2022 02:21 | 459 | ||
buildsrc-out.txt | 20-Oct-2022 02:21 | 917 | ||
buildbin-summary.dcf | 20-Oct-2022 02:21 | 524 | ||
buildbin-out.txt | 20-Oct-2022 02:21 | 2.6K | ||