Name | Last modified | Size | Description | |
---|---|---|---|---|
Parent Directory | - | |||
checksrc-out.txt | 20-Oct-2022 02:20 | 3.3K | ||
install-out.txt | 20-Oct-2022 02:20 | 2.1K | ||
buildsrc-out.txt | 20-Oct-2022 02:20 | 883 | ||
checksrc-summary.dcf | 20-Oct-2022 02:20 | 430 | ||
buildsrc-summary.dcf | 20-Oct-2022 02:20 | 422 | ||
install-summary.dcf | 20-Oct-2022 02:20 | 262 | ||