Name | Last modified | Size | Description | |
---|---|---|---|---|
Parent Directory | - | |||
install-out.txt | 20-Oct-2022 02:20 | 947 | ||
install-summary.dcf | 20-Oct-2022 02:20 | 259 | ||
buildsrc-out.txt | 20-Oct-2022 02:20 | 806 | ||
buildsrc-summary.dcf | 20-Oct-2022 02:20 | 416 | ||
checksrc-out.txt | 20-Oct-2022 02:20 | 3.9K | ||
checksrc-summary.dcf | 20-Oct-2022 02:20 | 423 | ||