Name | Last modified | Size | Description | |
---|---|---|---|---|
Parent Directory | - | |||
buildsrc-out.txt | 20-Oct-2022 02:20 | 766 | ||
buildsrc-summary.dcf | 20-Oct-2022 02:20 | 438 | ||
checksrc-out.txt | 20-Oct-2022 02:20 | 4.2K | ||
checksrc-summary.dcf | 20-Oct-2022 02:20 | 456 | ||
install-out.txt | 20-Oct-2022 02:20 | 1.0K | ||
install-summary.dcf | 20-Oct-2022 02:20 | 275 | ||