Name | Last modified | Size | Description | |
---|---|---|---|---|
Parent Directory | - | |||
checksrc-out.txt | 20-Oct-2022 02:21 | 7.0K | ||
buildbin-out.txt | 20-Oct-2022 02:21 | 2.0K | ||
install-out.txt | 20-Oct-2022 02:21 | 1.8K | ||
buildsrc-out.txt | 20-Oct-2022 02:21 | 1.1K | ||
buildbin-summary.dcf | 20-Oct-2022 02:21 | 555 | ||
checksrc-summary.dcf | 20-Oct-2022 02:21 | 481 | ||
buildsrc-summary.dcf | 20-Oct-2022 02:21 | 480 | ||
install-summary.dcf | 20-Oct-2022 02:21 | 282 | ||