Name | Last modified | Size | Description | |
---|---|---|---|---|
Parent Directory | - | |||
buildbin-out.txt | 13-Mar-2022 01:07 | 1.5K | ||
buildbin-summary.dcf | 13-Mar-2022 01:07 | 605 | ||
buildsrc-out.txt | 19-Mar-2022 00:08 | 204K | ||
buildsrc-summary.dcf | 19-Mar-2022 00:08 | 413 | ||
checksrc-out.txt | 13-Mar-2022 01:07 | 3.3K | ||
checksrc-summary.dcf | 13-Mar-2022 01:07 | 507 | ||
install-out.txt | 19-Mar-2022 00:08 | 1.3K | ||
install-summary.dcf | 19-Mar-2022 00:08 | 299 | ||