Index of /checkResults/3.15/bioc-LATEST/MsBackendMgf/raw-results

[ICO]NameLast modifiedSizeDescription

[DIR]Parent Directory  -  
[   ]info.dcf16-Aug-2022 02:23 322  
[DIR]merida1/16-Aug-2022 02:23 -  
[DIR]nebbiolo1/16-Aug-2022 02:20 -  
[DIR]palomino3/16-Aug-2022 02:21 -  
[DIR]riesling1/19-Mar-2022 00:08 -