Back to Multiple platform build/check report for BioC 3.15
ABCDEFGHIJKL[M]NOPQRSTUVWXYZ

This page was generated on 2022-06-24 12:06:21 -0400 (Fri, 24 Jun 2022).

HostnameOSArch (*)R versionInstalled pkgs
nebbiolo1Linux (Ubuntu 20.04.4 LTS)x86_644.2.0 (2022-04-22) -- "Vigorous Calisthenics" 4380
palomino3Windows Server 2022 Datacenterx644.2.0 (2022-04-22 ucrt) -- "Vigorous Calisthenics" 4156
merida1macOS 10.14.6 Mojavex86_644.2.0 (2022-04-22) -- "Vigorous Calisthenics" 4221
Click on any hostname to see more info about the system (e.g. compilers)      (*) as reported by 'uname -p', except on Windows and Mac OS X

BUILD BIN results for MobilityTransformR on palomino3


To the developers/maintainers of the MobilityTransformR package:
- Please allow up to 24 hours (and sometimes 48 hours) for your latest push to git@git.bioconductor.org:packages/MobilityTransformR.git to
reflect on this report. See How and When does the builder pull? When will my changes propagate? for more information.
- Make sure to use the following settings in order to reproduce any error or warning you see on this page.

raw results

Package 1217/2140HostnameOS / ArchINSTALLBUILDCHECKBUILD BIN
MobilityTransformR 1.0.0  (landing page)
Liesa Salzer
Snapshot Date: 2022-06-23 13:55:15 -0400 (Thu, 23 Jun 2022)
git_url: https://git.bioconductor.org/packages/MobilityTransformR
git_branch: RELEASE_3_15
git_last_commit: 850f91a
git_last_commit_date: 2022-04-26 12:21:33 -0400 (Tue, 26 Apr 2022)
nebbiolo1Linux (Ubuntu 20.04.4 LTS) / x86_64  OK    OK    OK  UNNEEDED, same version is already published
palomino3Windows Server 2022 Datacenter / x64  OK    OK    OK    OK  UNNEEDED, same version is already published
merida1macOS 10.14.6 Mojave / x86_64  OK    OK    OK    OK  UNNEEDED, same version is already published

Summary

Package: MobilityTransformR
Version: 1.0.0
Command: rm -rf MobilityTransformR.buildbin-libdir && mkdir MobilityTransformR.buildbin-libdir && F:\biocbuild\bbs-3.15-bioc\R\bin\R.exe CMD INSTALL --build --library=MobilityTransformR.buildbin-libdir MobilityTransformR_1.0.0.tar.gz
StartedAt: 2022-06-24 06:57:34 -0400 (Fri, 24 Jun 2022)
EndedAt: 2022-06-24 06:58:18 -0400 (Fri, 24 Jun 2022)
EllapsedTime: 44.5 seconds
RetCode: 0
Status:   OK  
PackageFile: MobilityTransformR_1.0.0.zip
PackageFileSize: 360.3 KiB

Command output

##############################################################################
##############################################################################
###
### Running command:
###
###   rm -rf MobilityTransformR.buildbin-libdir && mkdir MobilityTransformR.buildbin-libdir && F:\biocbuild\bbs-3.15-bioc\R\bin\R.exe CMD INSTALL --build --library=MobilityTransformR.buildbin-libdir MobilityTransformR_1.0.0.tar.gz
###
##############################################################################
##############################################################################


* installing *source* package 'MobilityTransformR' ...
** using staged installation
** R
** inst
** byte-compile and prepare package for lazy loading
** help
*** installing help indices
** building package indices
** installing vignettes
** testing if installed package can be loaded from temporary location
** testing if installed package can be loaded from final location
** testing if installed package keeps a record of temporary installation path
* MD5 sums
packaged installation of 'MobilityTransformR' as MobilityTransformR_1.0.0.zip
* DONE (MobilityTransformR)