Name | Last modified | Size | Description | |
---|---|---|---|---|
Parent Directory | - | |||
buildbin-out.txt | 19-Mar-2022 00:08 | 4.9K | ||
buildbin-summary.dcf | 19-Mar-2022 00:08 | 563 | ||
buildsrc-out.txt | 19-Mar-2022 00:08 | 939 | ||
buildsrc-summary.dcf | 19-Mar-2022 00:08 | 484 | ||
checksrc-out.txt | 19-Mar-2022 00:08 | 5.2K | ||
checksrc-summary.dcf | 19-Mar-2022 00:08 | 485 | ||
install-out.txt | 19-Mar-2022 00:08 | 4.9K | ||
install-summary.dcf | 19-Mar-2022 00:08 | 285 | ||