Name | Last modified | Size | Description | |
---|---|---|---|---|
Parent Directory | - | |||
buildbin-summary.dcf | 20-Oct-2022 02:21 | 564 | ||
buildbin-out.txt | 20-Oct-2022 02:21 | 2.2K | ||
checksrc-summary.dcf | 20-Oct-2022 02:21 | 485 | ||
checksrc-out.txt | 20-Oct-2022 02:21 | 5.2K | ||
buildsrc-summary.dcf | 20-Oct-2022 02:21 | 485 | ||
buildsrc-out.txt | 20-Oct-2022 02:21 | 939 | ||
install-summary.dcf | 20-Oct-2022 02:21 | 284 | ||
install-out.txt | 20-Oct-2022 02:21 | 2.0K | ||