Name | Last modified | Size | Description | |
---|---|---|---|---|
Parent Directory | - | |||
install-summary.dcf | 20-Oct-2022 02:20 | 275 | ||
buildsrc-summary.dcf | 20-Oct-2022 02:20 | 441 | ||
checksrc-summary.dcf | 20-Oct-2022 02:20 | 462 | ||
buildsrc-out.txt | 20-Oct-2022 02:20 | 901 | ||
install-out.txt | 20-Oct-2022 02:20 | 2.1K | ||
checksrc-out.txt | 20-Oct-2022 02:20 | 5.3K | ||