Name | Last modified | Size | Description | |
---|---|---|---|---|
Parent Directory | - | |||
buildbin-summary.dcf | 19-Mar-2022 00:08 | 516 | ||
buildbin-out.txt | 19-Mar-2022 00:08 | 5.5K | ||
checksrc-summary.dcf | 19-Mar-2022 00:08 | 453 | ||
checksrc-out.txt | 19-Mar-2022 00:08 | 36K | ||
buildsrc-summary.dcf | 19-Mar-2022 00:08 | 453 | ||
buildsrc-out.txt | 19-Mar-2022 00:08 | 899 | ||
install-summary.dcf | 19-Mar-2022 00:08 | 269 | ||
install-out.txt | 19-Mar-2022 00:08 | 5.3K | ||