Name | Last modified | Size | Description | |
---|---|---|---|---|
Parent Directory | - | |||
buildbin-out.txt | 19-Mar-2022 00:07 | 2.6K | ||
buildbin-summary.dcf | 19-Mar-2022 00:07 | 545 | ||
buildsrc-out.txt | 19-Mar-2022 00:07 | 1.0K | ||
buildsrc-summary.dcf | 19-Mar-2022 00:07 | 472 | ||
checksrc-out.txt | 19-Mar-2022 00:07 | 3.6K | ||
checksrc-summary.dcf | 19-Mar-2022 00:07 | 467 | ||
install-out.txt | 19-Mar-2022 00:07 | 2.5K | ||
install-summary.dcf | 19-Mar-2022 00:07 | 279 | ||