Name | Last modified | Size | Description | |
---|---|---|---|---|
Parent Directory | - | |||
install-summary.dcf | 19-Mar-2022 00:07 | 274 | ||
checksrc-summary.dcf | 19-Mar-2022 00:07 | 459 | ||
buildsrc-summary.dcf | 19-Mar-2022 00:07 | 465 | ||
buildbin-summary.dcf | 19-Mar-2022 00:07 | 533 | ||
buildsrc-out.txt | 19-Mar-2022 00:07 | 914 | ||
install-out.txt | 19-Mar-2022 00:07 | 5.2K | ||
buildbin-out.txt | 19-Mar-2022 00:07 | 5.3K | ||
checksrc-out.txt | 19-Mar-2022 00:07 | 8.0K | ||