Name | Last modified | Size | Description | |
---|---|---|---|---|
Parent Directory | - | |||
buildbin-out.txt | 20-Oct-2022 02:23 | 1.2K | ||
buildbin-summary.dcf | 20-Oct-2022 02:23 | 548 | ||
buildsrc-out.txt | 20-Oct-2022 02:23 | 891 | ||
buildsrc-summary.dcf | 20-Oct-2022 02:23 | 437 | ||
checksrc-out.txt | 20-Oct-2022 02:23 | 8.9K | ||
checksrc-summary.dcf | 20-Oct-2022 02:23 | 456 | ||
install-out.txt | 20-Oct-2022 02:23 | 1.0K | ||
install-summary.dcf | 20-Oct-2022 02:23 | 275 | ||