Name | Last modified | Size | Description | |
---|---|---|---|---|
Parent Directory | - | |||
install-out.txt | 19-Mar-2022 00:07 | 4.5K | ||
install-summary.dcf | 19-Mar-2022 00:07 | 276 | ||
buildsrc-out.txt | 19-Mar-2022 00:07 | 891 | ||
buildsrc-summary.dcf | 19-Mar-2022 00:07 | 468 | ||
checksrc-out.txt | 19-Mar-2022 00:07 | 3.7K | ||
checksrc-summary.dcf | 19-Mar-2022 00:07 | 463 | ||
buildbin-out.txt | 19-Mar-2022 00:07 | 4.5K | ||
buildbin-summary.dcf | 19-Mar-2022 00:07 | 539 | ||