Name | Last modified | Size | Description | |
---|---|---|---|---|
Parent Directory | - | |||
install-summary.dcf | 20-Oct-2022 02:21 | 270 | ||
install-out.txt | 20-Oct-2022 02:21 | 1.5K | ||
checksrc-summary.dcf | 20-Oct-2022 02:21 | 451 | ||
checksrc-out.txt | 20-Oct-2022 02:21 | 3.4K | ||
buildsrc-summary.dcf | 20-Oct-2022 02:21 | 457 | ||
buildsrc-out.txt | 20-Oct-2022 02:21 | 881 | ||
buildbin-summary.dcf | 20-Oct-2022 02:21 | 521 | ||
buildbin-out.txt | 20-Oct-2022 02:21 | 1.7K | ||