Back to Multiple platform build/check report for BioC 3.15 |
|
This page was generated on 2022-05-16 11:06:35 -0400 (Mon, 16 May 2022).
Hostname | OS | Arch (*) | R version | Installed pkgs |
---|---|---|---|---|
nebbiolo1 | Linux (Ubuntu 20.04.4 LTS) | x86_64 | 4.2.0 (2022-04-22) -- "Vigorous Calisthenics" | 4379 |
palomino3 | Windows Server 2022 Datacenter | x64 | 4.2.0 (2022-04-22 ucrt) -- "Vigorous Calisthenics" | 4153 |
merida1 | macOS 10.14.6 Mojave | x86_64 | 4.2.0 (2022-04-22) -- "Vigorous Calisthenics" | 4220 |
Click on any hostname to see more info about the system (e.g. compilers) (*) as reported by 'uname -p', except on Windows and Mac OS X |
To the developers/maintainers of the MSstatsSampleSize package: - Please allow up to 24 hours (and sometimes 48 hours) for your latest push to git@git.bioconductor.org:packages/MSstatsSampleSize.git to reflect on this report. See How and When does the builder pull? When will my changes propagate? for more information. - Make sure to use the following settings in order to reproduce any error or warning you see on this page. |
Package 1266/2140 | Hostname | OS / Arch | INSTALL | BUILD | CHECK | BUILD BIN | ||||||||
MSstatsSampleSize 1.10.0 (landing page) Ting Huang
| nebbiolo1 | Linux (Ubuntu 20.04.4 LTS) / x86_64 | OK | OK | WARNINGS | ![]() | ||||||||
palomino3 | Windows Server 2022 Datacenter / x64 | OK | OK | WARNINGS | OK | ![]() | ||||||||
merida1 | macOS 10.14.6 Mojave / x86_64 | OK | OK | WARNINGS | OK | ![]() | ||||||||
Package: MSstatsSampleSize |
Version: 1.10.0 |
Command: chmod a+r MSstatsSampleSize -R && F:\biocbuild\bbs-3.15-bioc\R\bin\R.exe CMD build --keep-empty-dirs --no-resave-data MSstatsSampleSize |
StartedAt: 2022-05-15 19:28:56 -0400 (Sun, 15 May 2022) |
EndedAt: 2022-05-15 19:29:47 -0400 (Sun, 15 May 2022) |
EllapsedTime: 51.0 seconds |
RetCode: 0 |
Status: OK |
PackageFile: MSstatsSampleSize_1.10.0.tar.gz |
PackageFileSize: 3.235 MiB |
############################################################################## ############################################################################## ### ### Running command: ### ### chmod a+r MSstatsSampleSize -R && F:\biocbuild\bbs-3.15-bioc\R\bin\R.exe CMD build --keep-empty-dirs --no-resave-data MSstatsSampleSize ### ############################################################################## ############################################################################## * checking for file 'MSstatsSampleSize/DESCRIPTION' ... OK * preparing 'MSstatsSampleSize': * checking DESCRIPTION meta-information ... OK * installing the package to build vignettes * creating vignettes ... OK * checking for LF line-endings in source and make files and shell scripts * checking for empty or unneeded directories * building 'MSstatsSampleSize_1.10.0.tar.gz'