Back to Multiple platform build/check report for BioC 3.15
ABCDEFGHIJKL[M]NOPQRSTUVWXYZ

This page was generated on 2022-05-20 12:06:56 -0400 (Fri, 20 May 2022).

HostnameOSArch (*)R versionInstalled pkgs
nebbiolo1Linux (Ubuntu 20.04.4 LTS)x86_644.2.0 (2022-04-22) -- "Vigorous Calisthenics" 4380
palomino3Windows Server 2022 Datacenterx644.2.0 (2022-04-22 ucrt) -- "Vigorous Calisthenics" 4155
merida1macOS 10.14.6 Mojavex86_644.2.0 (2022-04-22) -- "Vigorous Calisthenics" 4221
Click on any hostname to see more info about the system (e.g. compilers)      (*) as reported by 'uname -p', except on Windows and Mac OS X

BUILD results for MSstats on palomino3


To the developers/maintainers of the MSstats package:
- Please allow up to 24 hours (and sometimes 48 hours) for your latest push to git@git.bioconductor.org:packages/MSstats.git to
reflect on this report. See How and When does the builder pull? When will my changes propagate? for more information.
- Make sure to use the following settings in order to reproduce any error or warning you see on this page.

raw results

Package 1259/2140HostnameOS / ArchINSTALLBUILDCHECKBUILD BIN
MSstats 4.4.1  (landing page)
Meena Choi
Snapshot Date: 2022-05-19 13:55:15 -0400 (Thu, 19 May 2022)
git_url: https://git.bioconductor.org/packages/MSstats
git_branch: RELEASE_3_15
git_last_commit: e5dae55
git_last_commit_date: 2022-05-11 19:19:42 -0400 (Wed, 11 May 2022)
nebbiolo1Linux (Ubuntu 20.04.4 LTS) / x86_64  OK    OK    OK  UNNEEDED, same version is already published
palomino3Windows Server 2022 Datacenter / x64  OK    OK    OK    OK  UNNEEDED, same version is already published
merida1macOS 10.14.6 Mojave / x86_64  OK    OK    OK    OK  UNNEEDED, same version is already published

Summary

Package: MSstats
Version: 4.4.1
Command: chmod a+r MSstats -R && F:\biocbuild\bbs-3.15-bioc\R\bin\R.exe CMD build --keep-empty-dirs --no-resave-data MSstats
StartedAt: 2022-05-19 19:39:54 -0400 (Thu, 19 May 2022)
EndedAt: 2022-05-19 19:41:05 -0400 (Thu, 19 May 2022)
EllapsedTime: 71.3 seconds
RetCode: 0
Status:   OK  
PackageFile: MSstats_4.4.1.tar.gz
PackageFileSize: 189.1 KiB

Command output

##############################################################################
##############################################################################
###
### Running command:
###
###   chmod a+r MSstats -R && F:\biocbuild\bbs-3.15-bioc\R\bin\R.exe CMD build --keep-empty-dirs --no-resave-data MSstats
###
##############################################################################
##############################################################################


* checking for file 'MSstats/DESCRIPTION' ... OK
* preparing 'MSstats':
* checking DESCRIPTION meta-information ... OK
* cleaning src
* installing the package to build vignettes
* creating vignettes ... OK
* cleaning src
* checking for LF line-endings in source and make files and shell scripts
* checking for empty or unneeded directories
* building 'MSstats_4.4.1.tar.gz'