Name | Last modified | Size | Description | |
---|---|---|---|---|
Parent Directory | - | |||
install-out.txt | 20-Oct-2022 02:23 | 1.0K | ||
install-summary.dcf | 20-Oct-2022 02:23 | 263 | ||
buildsrc-out.txt | 20-Oct-2022 02:23 | 795 | ||
buildsrc-summary.dcf | 20-Oct-2022 02:23 | 417 | ||
checksrc-out.txt | 20-Oct-2022 02:23 | 3.2K | ||
checksrc-summary.dcf | 20-Oct-2022 02:23 | 432 | ||
buildbin-summary.dcf | 20-Oct-2022 02:23 | 512 | ||
buildbin-out.txt | 20-Oct-2022 02:23 | 1.1K | ||