Name | Last modified | Size | Description | |
---|---|---|---|---|
Parent Directory | - | |||
buildbin-out.txt | 19-Mar-2022 00:08 | 2.7K | ||
buildbin-summary.dcf | 19-Mar-2022 00:08 | 503 | ||
buildsrc-out.txt | 19-Mar-2022 00:08 | 889 | ||
buildsrc-summary.dcf | 19-Mar-2022 00:08 | 445 | ||
checksrc-out.txt | 19-Mar-2022 00:08 | 3.3K | ||
checksrc-summary.dcf | 19-Mar-2022 00:08 | 439 | ||
install-out.txt | 19-Mar-2022 00:08 | 2.9K | ||
install-summary.dcf | 19-Mar-2022 00:08 | 264 | ||