Name | Last modified | Size | Description | |
---|---|---|---|---|
Parent Directory | - | |||
install-out.txt | 19-Mar-2022 00:07 | 1.3K | ||
install-summary.dcf | 19-Mar-2022 00:07 | 260 | ||
buildsrc-out.txt | 19-Mar-2022 00:07 | 818 | ||
buildsrc-summary.dcf | 19-Mar-2022 00:07 | 434 | ||
checksrc-out.txt | 19-Mar-2022 00:07 | 3.1K | ||
checksrc-summary.dcf | 19-Mar-2022 00:07 | 429 | ||
buildbin-out.txt | 19-Mar-2022 00:07 | 1.4K | ||
buildbin-summary.dcf | 19-Mar-2022 00:07 | 488 | ||