Name | Last modified | Size | Description | |
---|---|---|---|---|
Parent Directory | - | |||
buildbin-out.txt | 19-Mar-2022 00:07 | 2.0K | ||
buildbin-summary.dcf | 19-Mar-2022 00:07 | 494 | ||
checksrc-summary.dcf | 19-Mar-2022 00:07 | 439 | ||
checksrc-out.txt | 19-Mar-2022 00:07 | 3.6K | ||
buildsrc-summary.dcf | 19-Mar-2022 00:07 | 438 | ||
buildsrc-out.txt | 19-Mar-2022 00:07 | 823 | ||
install-summary.dcf | 19-Mar-2022 00:07 | 261 | ||
install-out.txt | 19-Mar-2022 00:07 | 1.9K | ||