Index of /checkResults/3.15/bioc-LATEST/MACPET/raw-results/merida1
Name
Last modified
Size
Description
Parent Directory
-
buildsrc-out.txt
20-Oct-2022 02:23
3.9K
buildsrc-summary.dcf
20-Oct-2022 02:23
341
install-out.txt
20-Oct-2022 02:23
3.6K
install-summary.dcf
20-Oct-2022 02:23
270