Name | Last modified | Size | Description | |
---|---|---|---|---|
Parent Directory | - | |||
install-summary.dcf | 20-Oct-2022 02:21 | 278 | ||
install-out.txt | 20-Oct-2022 02:21 | 1.4K | ||
checksrc-summary.dcf | 20-Oct-2022 02:21 | 473 | ||
checksrc-out.txt | 20-Oct-2022 02:21 | 7.6K | ||
buildsrc-summary.dcf | 20-Oct-2022 02:21 | 472 | ||
buildsrc-out.txt | 20-Oct-2022 02:21 | 864 | ||
buildbin-summary.dcf | 20-Oct-2022 02:21 | 545 | ||
buildbin-out.txt | 20-Oct-2022 02:21 | 1.6K | ||