Name | Last modified | Size | Description | |
---|---|---|---|---|
Parent Directory | - | |||
buildbin-out.txt | 19-Mar-2022 00:07 | 1.3K | ||
buildbin-summary.dcf | 19-Mar-2022 00:07 | 563 | ||
buildsrc-out.txt | 19-Mar-2022 00:07 | 916 | ||
buildsrc-summary.dcf | 19-Mar-2022 00:07 | 482 | ||
checksrc-out.txt | 19-Mar-2022 00:07 | 3.0K | ||
checksrc-summary.dcf | 19-Mar-2022 00:07 | 478 | ||
install-out.txt | 19-Mar-2022 00:07 | 1.3K | ||
install-summary.dcf | 19-Mar-2022 00:07 | 284 | ||