Name | Last modified | Size | Description | |
---|---|---|---|---|
Parent Directory | - | |||
buildbin-out.txt | 19-Mar-2022 00:07 | 2.1K | ||
buildbin-summary.dcf | 19-Mar-2022 00:07 | 542 | ||
buildsrc-out.txt | 19-Mar-2022 00:07 | 957 | ||
buildsrc-summary.dcf | 19-Mar-2022 00:07 | 470 | ||
checksrc-out.txt | 19-Mar-2022 00:07 | 3.0K | ||
checksrc-summary.dcf | 19-Mar-2022 00:07 | 464 | ||
install-out.txt | 19-Mar-2022 00:07 | 2.8K | ||
install-summary.dcf | 19-Mar-2022 00:07 | 277 | ||