Name | Last modified | Size | Description | |
---|---|---|---|---|
Parent Directory | - | |||
buildbin-out.txt | 20-Oct-2022 02:23 | 1.3K | ||
buildbin-summary.dcf | 20-Oct-2022 02:23 | 656 | ||
buildsrc-out.txt | 20-Oct-2022 02:23 | 900 | ||
buildsrc-summary.dcf | 20-Oct-2022 02:23 | 490 | ||
checksrc-out.txt | 20-Oct-2022 02:23 | 3.5K | ||
checksrc-summary.dcf | 20-Oct-2022 02:23 | 528 | ||
install-out.txt | 20-Oct-2022 02:23 | 1.1K | ||
install-summary.dcf | 20-Oct-2022 02:23 | 311 | ||