Index of /checkResults/3.15/bioc-LATEST/HilbertCurve/raw-results/palomino3

[ICO]NameLast modifiedSizeDescription

[DIR]Parent Directory  -  
[TXT]buildbin-out.txt04-Aug-2022 02:21 1.1K 
[   ]buildbin-summary.dcf04-Aug-2022 02:21 545  
[TXT]buildsrc-out.txt04-Aug-2022 02:21 864  
[   ]buildsrc-summary.dcf04-Aug-2022 02:21 473  
[TXT]checksrc-out.txt04-Aug-2022 02:21 3.3K 
[   ]checksrc-summary.dcf04-Aug-2022 02:21 467  
[TXT]install-out.txt04-Aug-2022 02:21 1.0K 
[   ]install-summary.dcf04-Aug-2022 02:21 278