Index of /checkResults/3.15/bioc-LATEST/HilbertCurve/raw-results/merida1

[ICO]NameLast modifiedSizeDescription

[DIR]Parent Directory  -  
[TXT]buildbin-out.txt16-Aug-2022 02:22 1.2K 
[   ]buildbin-summary.dcf16-Aug-2022 02:22 560  
[TXT]buildsrc-out.txt16-Aug-2022 02:22 836  
[   ]buildsrc-summary.dcf16-Aug-2022 02:22 443  
[TXT]checksrc-out.txt16-Aug-2022 02:22 3.5K 
[   ]checksrc-summary.dcf16-Aug-2022 02:22 464  
[TXT]install-out.txt16-Aug-2022 02:22 1.0K 
[   ]install-summary.dcf16-Aug-2022 02:22 279