Name | Last modified | Size | Description | |
---|---|---|---|---|
Parent Directory | - | |||
checksrc-out.txt | 19-Mar-2022 00:07 | 4.1K | ||
buildbin-out.txt | 19-Mar-2022 00:07 | 2.3K | ||
install-out.txt | 19-Mar-2022 00:07 | 2.2K | ||
buildsrc-out.txt | 19-Mar-2022 00:07 | 859 | ||
buildbin-summary.dcf | 19-Mar-2022 00:07 | 539 | ||
checksrc-summary.dcf | 19-Mar-2022 00:07 | 469 | ||
buildsrc-summary.dcf | 19-Mar-2022 00:07 | 469 | ||
install-summary.dcf | 19-Mar-2022 00:07 | 276 | ||