Index of /checkResults/3.15/bioc-LATEST/HTSeqGenie/raw-results

[ICO]NameLast modifiedSizeDescription

[DIR]Parent Directory  -  
[   ]info.dcf16-Aug-2022 02:20 276  
[DIR]nebbiolo1/16-Aug-2022 02:20 -