Name | Last modified | Size | Description | |
---|---|---|---|---|
Parent Directory | - | |||
buildbin-out.txt | 18-Mar-2022 00:07 | 2.8K | ||
buildbin-summary.dcf | 18-Mar-2022 00:07 | 497 | ||
buildsrc-out.txt | 19-Mar-2022 00:07 | 2.1K | ||
buildsrc-summary.dcf | 19-Mar-2022 00:07 | 359 | ||
checksrc-out.txt | 18-Mar-2022 00:07 | 3.6K | ||
checksrc-summary.dcf | 18-Mar-2022 00:07 | 435 | ||
install-out.txt | 19-Mar-2022 00:07 | 2.7K | ||
install-summary.dcf | 19-Mar-2022 00:07 | 263 | ||