Name | Last modified | Size | Description | |
---|---|---|---|---|
Parent Directory | - | |||
install-out.txt | 19-Mar-2022 00:07 | 5.7K | ||
buildbin-out.txt | 19-Mar-2022 00:07 | 5.3K | ||
checksrc-out.txt | 19-Mar-2022 00:07 | 4.5K | ||
buildsrc-out.txt | 19-Mar-2022 00:07 | 906 | ||
buildbin-summary.dcf | 19-Mar-2022 00:07 | 557 | ||
buildsrc-summary.dcf | 19-Mar-2022 00:07 | 480 | ||
checksrc-summary.dcf | 19-Mar-2022 00:07 | 474 | ||
install-summary.dcf | 19-Mar-2022 00:07 | 282 | ||