Name | Last modified | Size | Description | |
---|---|---|---|---|
Parent Directory | - | |||
checksrc-out.txt | 20-Oct-2022 02:21 | 4.6K | ||
buildbin-out.txt | 20-Oct-2022 02:21 | 4.4K | ||
install-out.txt | 20-Oct-2022 02:21 | 4.2K | ||
buildsrc-out.txt | 20-Oct-2022 02:21 | 906 | ||
buildbin-summary.dcf | 20-Oct-2022 02:21 | 557 | ||
buildsrc-summary.dcf | 20-Oct-2022 02:21 | 480 | ||
checksrc-summary.dcf | 20-Oct-2022 02:21 | 474 | ||
install-summary.dcf | 20-Oct-2022 02:21 | 282 | ||