Index of /checkResults/3.15/bioc-LATEST/GmicR/raw-results/nebbiolo1

[ICO]NameLast modifiedSizeDescription

[DIR]Parent Directory  -  
[TXT]buildsrc-out.txt11-Aug-2022 04:39 1.0K 
[   ]buildsrc-summary.dcf11-Aug-2022 04:39 329  
[TXT]checksrc-out.txt09-Aug-2022 02:19 3.7K 
[   ]checksrc-summary.dcf09-Aug-2022 02:19 422  
[TXT]install-out.txt11-Aug-2022 04:39 1.2K 
[   ]install-summary.dcf11-Aug-2022 04:39 255