Index of /checkResults/3.15/bioc-LATEST/GmicR/raw-results/merida1

[ICO]NameLast modifiedSizeDescription

[DIR]Parent Directory  -  
[TXT]buildbin-out.txt09-Aug-2022 02:20 1.4K 
[   ]buildbin-summary.dcf09-Aug-2022 02:20 518  
[TXT]buildsrc-out.txt11-Aug-2022 04:40 1.1K 
[   ]buildsrc-summary.dcf11-Aug-2022 04:40 339  
[TXT]checksrc-out.txt09-Aug-2022 02:20 3.8K 
[   ]checksrc-summary.dcf09-Aug-2022 02:20 443  
[TXT]install-out.txt11-Aug-2022 04:40 1.3K 
[   ]install-summary.dcf11-Aug-2022 04:40 265