Index of /checkResults/3.15/bioc-LATEST/GmicR/raw-results
Name
Last modified
Size
Description
Parent Directory
-
riesling1/
19-Mar-2022 00:07
-
palomino3/
04-Aug-2022 02:21
-
nebbiolo1/
11-Aug-2022 04:39
-
info.dcf
11-Aug-2022 04:40
277
merida1/
11-Aug-2022 04:40
-