Name | Last modified | Size | Description | |
---|---|---|---|---|
Parent Directory | - | |||
buildbin-out.txt | 02-Jun-2022 01:06 | 3.6K | ||
buildbin-summary.dcf | 02-Jun-2022 01:06 | 551 | ||
buildsrc-out.txt | 20-Oct-2022 02:21 | 6.3K | ||
buildsrc-summary.dcf | 20-Oct-2022 02:21 | 387 | ||
checksrc-out.txt | 02-Jun-2022 01:06 | 4.3K | ||
checksrc-summary.dcf | 02-Jun-2022 01:06 | 471 | ||
install-out.txt | 20-Oct-2022 02:21 | 3.4K | ||
install-summary.dcf | 20-Oct-2022 02:21 | 280 | ||