Index of /checkResults/3.15/bioc-LATEST/GenoGAM/raw-results/riesling1
Name
Last modified
Size
Description
Parent Directory
-
buildsrc-out.txt
19-Mar-2022 00:07
70K
buildsrc-summary.dcf
19-Mar-2022 00:07
369
install-out.txt
19-Mar-2022 00:07
4.6K
install-summary.dcf
19-Mar-2022 00:07
268