Index of /checkResults/3.15/bioc-LATEST/GenoGAM/raw-results/palomino3
Name
Last modified
Size
Description
Parent Directory
-
buildsrc-out.txt
20-Oct-2022 02:21
73K
buildsrc-summary.dcf
20-Oct-2022 02:21
369
install-out.txt
20-Oct-2022 02:21
2.9K
install-summary.dcf
20-Oct-2022 02:21
268