Index of /checkResults/3.15/bioc-LATEST/GenoGAM/raw-results/merida1
Name
Last modified
Size
Description
Parent Directory
-
buildsrc-out.txt
20-Oct-2022 02:23
71K
buildsrc-summary.dcf
20-Oct-2022 02:23
344
install-out.txt
20-Oct-2022 02:23
3.3K
install-summary.dcf
20-Oct-2022 02:23
270