Index of /checkResults/3.15/bioc-LATEST/GeneNetworkBuilder/raw-results

[ICO]NameLast modifiedSizeDescription

[DIR]Parent Directory  -  
[   ]info.dcf26-May-2022 01:08 292  
[DIR]merida1/26-May-2022 01:08 -  
[DIR]nebbiolo1/26-May-2022 01:05 -  
[DIR]palomino3/26-May-2022 01:06 -  
[DIR]riesling1/19-Mar-2022 00:07 -