Name | Last modified | Size | Description | |
---|---|---|---|---|
Parent Directory | - | |||
install-out.txt | 20-Oct-2022 02:22 | 1.7K | ||
install-summary.dcf | 20-Oct-2022 02:22 | 281 | ||
buildsrc-out.txt | 20-Oct-2022 02:22 | 870 | ||
buildsrc-summary.dcf | 20-Oct-2022 02:22 | 445 | ||
checksrc-summary.dcf | 20-Oct-2022 02:22 | 468 | ||
checksrc-out.txt | 20-Oct-2022 02:22 | 5.1K | ||
buildbin-out.txt | 20-Oct-2022 02:22 | 2.7K | ||
buildbin-summary.dcf | 20-Oct-2022 02:22 | 566 | ||