Name | Last modified | Size | Description | |
---|---|---|---|---|
Parent Directory | - | |||
install-summary.dcf | 19-Mar-2022 00:07 | 284 | ||
checksrc-summary.dcf | 19-Mar-2022 00:07 | 479 | ||
buildsrc-summary.dcf | 19-Mar-2022 00:07 | 485 | ||
buildbin-summary.dcf | 19-Mar-2022 00:07 | 563 | ||
buildsrc-out.txt | 19-Mar-2022 00:07 | 1.4K | ||
install-out.txt | 19-Mar-2022 00:07 | 1.7K | ||
buildbin-out.txt | 19-Mar-2022 00:07 | 1.9K | ||
checksrc-out.txt | 19-Mar-2022 00:07 | 3.4K | ||