Index of /checkResults/3.15/bioc-LATEST/GSEABenchmarkeR/raw-results/nebbiolo1

[ICO]NameLast modifiedSizeDescription

[DIR]Parent Directory  -  
[TXT]buildsrc-out.txt16-Aug-2022 02:20 1.4K 
[   ]buildsrc-summary.dcf16-Aug-2022 02:20 442  
[TXT]checksrc-out.txt16-Aug-2022 02:20 3.4K 
[   ]checksrc-summary.dcf16-Aug-2022 02:20 456  
[TXT]install-out.txt16-Aug-2022 02:20 971  
[   ]install-summary.dcf16-Aug-2022 02:20 275