Index of /checkResults/3.15/bioc-LATEST/GSEABenchmarkeR/raw-results/merida1

[ICO]NameLast modifiedSizeDescription

[DIR]Parent Directory  -  
[TXT]buildbin-out.txt16-Aug-2022 02:22 1.2K 
[   ]buildbin-summary.dcf16-Aug-2022 02:22 578  
[TXT]buildsrc-out.txt16-Aug-2022 02:22 1.4K 
[   ]buildsrc-summary.dcf16-Aug-2022 02:22 452  
[TXT]checksrc-out.txt16-Aug-2022 02:22 3.5K 
[   ]checksrc-summary.dcf16-Aug-2022 02:22 476  
[TXT]install-out.txt16-Aug-2022 02:22 1.0K 
[   ]install-summary.dcf16-Aug-2022 02:22 285